BEGIN:VCALENDAR
VERSION:2.0
PRODID:-//wp-events-plugin.com//7.2.3.1//EN
TZID:Europe/London
X-WR-TIMEZONE:Europe/London
BEGIN:VEVENT
UID:806@orpingtonliberalclub.co.uk
DTSTART;TZID=Europe/London:20240510T200000
DTEND;TZID=Europe/London:20240510T223000
DTSTAMP:20240417T052639Z
URL:https://orpingtonliberalclub.co.uk/events/vince-the-thunderbolts/
SUMMARY:Vince-Lightning of the Thunderboltzs with Tony Dobson.
DESCRIPTION:Come and join us down at the club for an evening of rock and ro
 ll. Joining Vince during the evening will be Tony Dobson.\n\nThe club prem
 ises &amp\; CAMRA award-winning bar will be open on the day from 5.30 pm. 
 It’s CARD payments only.\n\n&nbsp\;
CATEGORIES:Music,Rock
END:VEVENT
BEGIN:VTIMEZONE
TZID:Europe/London
X-LIC-LOCATION:Europe/London
BEGIN:DAYLIGHT
DTSTART:20240331T020000
TZOFFSETFROM:+0000
TZOFFSETTO:+0100
TZNAME:BST
END:DAYLIGHT
END:VTIMEZONE
END:VCALENDAR