BEGIN:VCALENDAR
VERSION:2.0
PRODID:-//wp-events-plugin.com//7.2.3.1//EN
TZID:Europe/London
X-WR-TIMEZONE:Europe/London
BEGIN:VEVENT
UID:1156@orpingtonliberalclub.co.uk
DTSTART;TZID=Europe/London:20250607T194500
DTEND;TZID=Europe/London:20250607T220000
DTSTAMP:20250505T081200Z
URL:https://orpingtonliberalclub.co.uk/events/vince-lightning-trio-double-
 measures/
SUMMARY:Vince Lightning 'Trio' & Double Measures
DESCRIPTION:\n\nVince\, Dawn and Smudge\, along with Caroline and Dave from
  Double Measures will be entertaining you this evening. We start the eveni
 ng with floor spots\, please see Denise. There will be a variety of music 
 from Joni Mitchell to Rock n Roll\, with a lovely relaxed feel to the even
 ing.\n\nAs always\, we welcome non members\, £1 entry at the bar. We will
  hold a raffle and there will be nibbles. A jar will be passed around duri
 ng the evening\, please note a guideline of £5/6 per person\, which will 
 be given to the main performers.\n\nThe OLC premises will be open on the n
 ight from 19.00 hrs with the music set to start at 20.00 hrs. Please try t
 o get there a bit earlier to allow time to order your drinks and find a se
 at.\n\nThe CAMRA award-winning club bar is card payments only.\n\n&nbsp\;
CATEGORIES:Music
END:VEVENT
BEGIN:VTIMEZONE
TZID:Europe/London
X-LIC-LOCATION:Europe/London
BEGIN:DAYLIGHT
DTSTART:20250330T020000
TZOFFSETFROM:+0000
TZOFFSETTO:+0100
TZNAME:BST
END:DAYLIGHT
END:VTIMEZONE
END:VCALENDAR