BEGIN:VCALENDAR
VERSION:2.0
PRODID:-//wp-events-plugin.com//7.2.3.1//EN
TZID:Europe/London
X-WR-TIMEZONE:Europe/London
BEGIN:VEVENT
UID:1157@orpingtonliberalclub.co.uk
DTSTART;TZID=Europe/London:20250510T160000
DTEND;TZID=Europe/London:20250510T180000
DTSTAMP:20250507T093035Z
URL:https://orpingtonliberalclub.co.uk/events/ve-day-80th-anniversary-2/
SUMMARY:Springish
DESCRIPTION:\nAs part of the Orpington Liberal Club's VE Day 80th anniversa
 ry celebrations\, we're delighted that Springish\, with their big repertoi
 re of songs and tunes\, will play a special late afternoon set featuring 4
 0's music.\n\nSpringish is a dynamic duo from Kent. Sensational young folk
  fiddle player Matt English teams up with multi-instrumentalist Tim Spring
 ett\, who is no slouch on guitar\, mandolin\, and vocals.\n\nWe welcome fl
 oorspots from singers\, musicians\, poets &amp\; spoken word performers. I
 f you can come up with something in keeping with the theme of the day\, th
 at would be a big bonus.\n\nIf it's glorious weather\, the music will be i
 n the garden\; otherwise\, it will be in the hall.\n\nCASH hat collection 
 for the musicians with a suggested minimum of £5\, but please give more i
 f you can afford it.\n\nIt's free entry to the club premises for OLC &amp\
 ; CAMRA Members\, and for others\, £1 is payable at the bar.\n\nOn the da
 y\, the club will be open from 12.30 pm &amp\; Peter Muldoon will be arran
 ging to serve up food with a wartime menu from 2pm until it runs out (£10
 /head)\,
CATEGORIES:Music
END:VEVENT
BEGIN:VTIMEZONE
TZID:Europe/London
X-LIC-LOCATION:Europe/London
BEGIN:DAYLIGHT
DTSTART:20250330T020000
TZOFFSETFROM:+0000
TZOFFSETTO:+0100
TZNAME:BST
END:DAYLIGHT
END:VTIMEZONE
END:VCALENDAR