BEGIN:VCALENDAR
VERSION:2.0
PRODID:-//wp-events-plugin.com//7.2.3.1//EN
TZID:Europe/London
X-WR-TIMEZONE:Europe/London
BEGIN:VEVENT
UID:1279@orpingtonliberalclub.co.uk
DTSTART;TZID=Europe/London:20260815T190000
DTEND;TZID=Europe/London:20260815T230000
DTSTAMP:20260131T154041Z
URL:https://orpingtonliberalclub.co.uk/events/unorfadox/
SUMMARY:Unorfadox & The CBGBs
DESCRIPTION:\n\nTickets £5 on the door. Band info linktr.ee/unorfadox\n\n
 The club premises and CAMRA award-winning bar will be open on the day from
  6.30pm. The bar is card payments only.\n\nEntry to the club is free to OL
 C &amp\; CAMRA members and £1 for non-members\, payable at the bar.
CATEGORIES:Music
END:VEVENT
BEGIN:VTIMEZONE
TZID:Europe/London
X-LIC-LOCATION:Europe/London
BEGIN:DAYLIGHT
DTSTART:20260329T020000
TZOFFSETFROM:+0000
TZOFFSETTO:+0100
TZNAME:BST
END:DAYLIGHT
END:VTIMEZONE
END:VCALENDAR