BEGIN:VCALENDAR
VERSION:2.0
PRODID:-//wp-events-plugin.com//7.2.3.1//EN
TZID:Europe/London
X-WR-TIMEZONE:Europe/London
BEGIN:VEVENT
UID:808@orpingtonliberalclub.co.uk
DTSTART;TZID=Europe/London:20240524T193000
DTEND;TZID=Europe/London:20240524T223000
DTSTAMP:20240419T145441Z
URL:https://orpingtonliberalclub.co.uk/events/under-the-influence/
SUMMARY:Under The Influence
DESCRIPTION:OLC welcomes the return of highly entertaining local covers gro
 up Under the Influence with hits from the 50s-60s-70s &amp\; more.\n\nTher
 e'll be foot-tapping\, singing along &amp\; a chance to dance.\n\nWith Joh
 nny G (keyboard/cajon)\, Ralph Raisen (vocals/percussion)\, Pauline Gaunt 
 (vocal /guitar)\, Stuart Mills (vocals/percussion) &amp\; new Bass player 
 Paul Ferdinand (vocals/outrageous jackets).\n\nMid-evening support from th
 e lovely Paula Frankis (vocals/Ukulele) and lively floorspots to start—c
 ome early on the night if you'd like to do a turn.\n\nHat collection in CA
 SH for guests suggested min of £6. Please give more if you can afford it\
 nFree Entry to OLC Members. £1 to Non-Members.\n\nCAMRA Award Winning Bar
  CARD payments only is open from 7.00 pm
CATEGORIES:Music
END:VEVENT
BEGIN:VTIMEZONE
TZID:Europe/London
X-LIC-LOCATION:Europe/London
BEGIN:DAYLIGHT
DTSTART:20240331T020000
TZOFFSETFROM:+0000
TZOFFSETTO:+0100
TZNAME:BST
END:DAYLIGHT
END:VTIMEZONE
END:VCALENDAR