BEGIN:VCALENDAR
VERSION:2.0
PRODID:-//wp-events-plugin.com//7.2.3.1//EN
TZID:Europe/London
X-WR-TIMEZONE:Europe/London
BEGIN:VEVENT
UID:1185@orpingtonliberalclub.co.uk
DTSTART;TZID=Europe/London:20250912T193000
DTEND;TZID=Europe/London:20250912T223000
DTSTAMP:20250809T054658Z
URL:https://orpingtonliberalclub.co.uk/events/tim-springett-3/
SUMMARY:Tim Springett
DESCRIPTION:After a busy summer of gigs with Springish and the Spiders from
  Sidcup\, including having had his hair shorn off for charity. A new look 
 Tim Springett returns to OLC to showcase his vast repertoire of songs and 
 styles on guitar and piano with special guest appearances from his musical
  friends. It’ll be another great evening\, so don’t miss it!\n\nWe kic
 k off with open mic/floorspots from musicians\, singers &amp\; poets follo
 wed by the 1st of 2 sets from Tim &amp\; friends.\n\nPayment is by hat col
 lection in CASH for the guest with a £5 minimum contribution suggested. P
 lease consider giving a bit more if you can afford it.\n\nThe premises &am
 p\; OLC's CAMRA award-winning club bar (CARD payments only) will be open f
 rom 6.15 pm. It's free entry to OLC/CAMRA members with a £1 charge to oth
 ers payable at the bar.
CATEGORIES:Music
END:VEVENT
BEGIN:VTIMEZONE
TZID:Europe/London
X-LIC-LOCATION:Europe/London
BEGIN:DAYLIGHT
DTSTART:20250330T020000
TZOFFSETFROM:+0000
TZOFFSETTO:+0100
TZNAME:BST
END:DAYLIGHT
END:VTIMEZONE
END:VCALENDAR