BEGIN:VCALENDAR
VERSION:2.0
PRODID:-//wp-events-plugin.com//7.2.3.1//EN
TZID:Europe/London
X-WR-TIMEZONE:Europe/London
BEGIN:VEVENT
UID:870@orpingtonliberalclub.co.uk
DTSTART;TZID=Europe/London:20240903T190000
DTEND;TZID=Europe/London:20240903T220000
DTSTAMP:20240809T075322Z
URL:https://orpingtonliberalclub.co.uk/events/tim-springett-2/
SUMMARY:Tim Springett
DESCRIPTION:After a busy summer of gigs with Springish and the Spiders from
  Sidcup\, Tim Springett returns with his solo show\, showcasing his vast r
 epertoire of songs and styles on guitar and piano. There may even be some 
 special guest appearances too! It’ll be a great evening so don’t miss 
 it!\n\nWe kick off with open mic/floorspots followed by the 1st of 2 sets 
 from Tim &amp\; friends.\nWeather permitting\, we'll start in the garden w
 ith a small portable PA for plug-in &amp\; play before moving into the clu
 b hall for the 2nd half.\n\nIt's Free entry to OLC members with a £1 char
 ge to others. + a hat collection in CASH for the guest with a £5 suggeste
 d minimum contribution. Please consider giving a bit more if you can affor
 d it.\n\nThe premises &amp\; OLC's CAMRA award-winning club bar (CARD paym
 ents only) will be open from 6.15 pm.
CATEGORIES:Music
END:VEVENT
BEGIN:VTIMEZONE
TZID:Europe/London
X-LIC-LOCATION:Europe/London
BEGIN:DAYLIGHT
DTSTART:20240331T020000
TZOFFSETFROM:+0000
TZOFFSETTO:+0100
TZNAME:BST
END:DAYLIGHT
END:VTIMEZONE
END:VCALENDAR