BEGIN:VCALENDAR
VERSION:2.0
PRODID:-//wp-events-plugin.com//7.2.3.1//EN
TZID:Europe/London
X-WR-TIMEZONE:Europe/London
BEGIN:VEVENT
UID:1180@orpingtonliberalclub.co.uk
DTSTART;TZID=Europe/London:20250822T190000
DTEND;TZID=Europe/London:20250822T223000
DTSTAMP:20250727T111558Z
URL:https://orpingtonliberalclub.co.uk/events/the-trafalgers/
SUMMARY:The Trafalgers
DESCRIPTION:The Trafalgars are a Croydon based band who have played (more o
 r less) every genre of music there is. A diverse group with a common passi
 on for putting on a good show by covering tracks by various popular artist
 s.\n\nIt’s free entry for OLC and CAMRA members\, with a £1 charge to n
 on-members who attend as guests.\n\nThe OLC premises &amp\; CAMRA award-wi
 nning bar will be open from 17.30pm - CARD payments only.\n\n&nbsp\;
CATEGORIES:Music
END:VEVENT
BEGIN:VTIMEZONE
TZID:Europe/London
X-LIC-LOCATION:Europe/London
BEGIN:DAYLIGHT
DTSTART:20250330T020000
TZOFFSETFROM:+0000
TZOFFSETTO:+0100
TZNAME:BST
END:DAYLIGHT
END:VTIMEZONE
END:VCALENDAR