BEGIN:VCALENDAR
VERSION:2.0
PRODID:-//wp-events-plugin.com//7.2.3.1//EN
TZID:Europe/London
X-WR-TIMEZONE:Europe/London
BEGIN:VEVENT
UID:1173@orpingtonliberalclub.co.uk
DTSTART;TZID=Europe/London:20251101T190000
DTEND;TZID=Europe/London:20251101T220000
DTSTAMP:20251020T053759Z
URL:https://orpingtonliberalclub.co.uk/events/the-outbursts-and-unorfadox/
SUMMARY:The Outbursts and Unorfadox
DESCRIPTION:\n\nThe Outbursts and Unorfadox return to the Orpington Liberal
  Club for another round. The gloves are off!\n\nFree Entry to OLC Members.
  £1 to Non Members payable at the bar.\n\nCAMRA Award Winning Bar - CARD 
 payments only.
CATEGORIES:Music
END:VEVENT
BEGIN:VTIMEZONE
TZID:Europe/London
X-LIC-LOCATION:Europe/London
BEGIN:STANDARD
DTSTART:20251026T010000
TZOFFSETFROM:+0100
TZOFFSETTO:+0000
TZNAME:GMT
END:STANDARD
END:VTIMEZONE
END:VCALENDAR