BEGIN:VCALENDAR
VERSION:2.0
PRODID:-//wp-events-plugin.com//7.2.3.1//EN
TZID:Europe/London
X-WR-TIMEZONE:Europe/London
BEGIN:VEVENT
UID:1197@orpingtonliberalclub.co.uk
DTSTART;TZID=Europe/London:20251029T191500
DTEND;TZID=Europe/London:20251029T220000
DTSTAMP:20250923T042822Z
URL:https://orpingtonliberalclub.co.uk/events/the-maypole-project/
SUMMARY:The Maypole Project
DESCRIPTION:\nSharon Stribling hosts a special Orpington Liberal Club Fundr
 aiser for THE MAYPOLE PROJECT\, a locally based charity which supports fam
 ilies with children who have complex needs.\n\nSingers &amp\; Musicians FR
 ANCIS &amp\; JAX\, 7UKES &amp\; EDACQUES will be playing for free.\n\nA ca
 sh hat collection will be made during the course of the evening &amp\; wil
 l go in its entirety to The Maypole Project. There will also be a raffle. 
 Please give generously.\n\nHere's the Schedule\n\n 	6.15 Premises &amp\; B
 ar Open ..card payment only\n 	7.00 Hall Doors Open\n 	7.15 Open to Floors
 pots from Singers\, Musicians &amp\; Poets\n 	7.45 Edacques\n 	8.15 7ukes\
 n 	8.45 break\n 	9.00 Sharon Stribling brief talk on The Maypole Project\n
  	9.15 Francis &amp\; Jax with Sharon Stribing.\n 	10.00 Finish\n\nIt's fr
 ee entry to OLC/CAMRA members &amp\; £1 to others payable at the bar.
CATEGORIES:Music
END:VEVENT
BEGIN:VTIMEZONE
TZID:Europe/London
X-LIC-LOCATION:Europe/London
BEGIN:STANDARD
DTSTART:20251026T010000
TZOFFSETFROM:+0100
TZOFFSETTO:+0000
TZNAME:GMT
END:STANDARD
END:VTIMEZONE
END:VCALENDAR