BEGIN:VCALENDAR
VERSION:2.0
PRODID:-//wp-events-plugin.com//7.2.3.1//EN
TZID:Europe/London
X-WR-TIMEZONE:Europe/London
BEGIN:VEVENT
UID:1179@orpingtonliberalclub.co.uk
DTSTART;TZID=Europe/London:20250902T193000
DTEND;TZID=Europe/London:20250902T221500
DTSTAMP:20250723T055122Z
URL:https://orpingtonliberalclub.co.uk/events/the-kimberleys-2/
SUMMARY:The Kimberleys
DESCRIPTION:Welcome return to OLC of the fabulous KIMBERLEYS... not to be m
 issed!!\nJIM and ISOBEL are a multi-instrumentalist duo based in London. T
 heir repertoire is drawn from traditional folk songs of the British Isles.
  Their honest arrangements\, exceptional musicianship\, and glorious famil
 ial harmonies combine to make an impact much greater than their two-piece 
 line-up. It is magical to witness.\n\nWe start the evening with floorspots
  &amp\; Kimberleys will come to play the 1st of two sets at 8.20 pm or sho
 rtly after.\n\nIf you wish to perform\, please come early and flag up your
  intentions on arrival to avoid disappointment. We're open to poets and sp
 oken work in addition to singers\, musicians\, and\, of course\, an audien
 ce.\n\nThere'll be PA available with mics &amp\; leads for plugin &amp\; p
 lay.\n\nThe hat collection is in CASH for the guests\, with a suggested co
 ntribution of £6 per head minimum. Please give more if you can afford it.
  It all goes to the guests\, who are a class act.\n\nThe CAMRA award-winni
 ng bar will be open from 6.15 pm. CARD payments only.
CATEGORIES:Music
END:VEVENT
BEGIN:VTIMEZONE
TZID:Europe/London
X-LIC-LOCATION:Europe/London
BEGIN:DAYLIGHT
DTSTART:20250330T020000
TZOFFSETFROM:+0000
TZOFFSETTO:+0100
TZNAME:BST
END:DAYLIGHT
END:VTIMEZONE
END:VCALENDAR