BEGIN:VCALENDAR
VERSION:2.0
PRODID:-//wp-events-plugin.com//7.2.3.1//EN
TZID:Europe/London
X-WR-TIMEZONE:Europe/London
BEGIN:VEVENT
UID:1289@orpingtonliberalclub.co.uk
DTSTART;TZID=Europe/London:20260116T193000
DTEND;TZID=Europe/London:20260116T223000
DTSTAMP:20251220T074847Z
URL:https://orpingtonliberalclub.co.uk/events/the-gillies-restless-tide/
SUMMARY:The Gillies & Restless Tide
DESCRIPTION:We have an excellent double bill lined up for you with a set ea
 ch from two quality singer/songwriter duos THE GILLIES &amp\; RESTLESS TID
 E.\n\nThe GILLIES are club favourites\, Mark Evans &amp\; Susan Turner\, a
 n Americana Style Folk duo based in SE London. Their music tells of love\,
  loss\, bittersweet and harsh realities\, the distinctive sound of their a
 coustic guitars create an intense lonesome dark musical style delivered wi
 th finely blended vocal harmonies.\n\nOLC debutants RESTLESS TIDE are Rose
 line &amp\; Anne-Marie Sewell. A London based\, song writing\, harmony sin
 ging\, guitar playing\, mother &amp\; daughter folk duo. They've played to
 gether since Anne-Marie was in her teens &amp\; honed their musical rappor
 t during the lockdowns. They have been gaining a growing fan base on the l
 ocal folk scene for their finely crafted composition &amp\; come to us on 
 recommendations from both their friends The Gillies &amp\; also Radio Kent
  Folk's Doug Welch.\n\nFrom 7.30 pm until 8.10 pm\, we're open to lively f
 loor spots. We welcome singers\, musicians &amp\; poets Please come early 
 if you'd like to do a turn.\n\nThe 1st guests set is due to start at 8.15 
 with break taken at around 9 followed by the 2nd set.\n\nPayment for the g
 uests will be by hat collection in CASH. The suggested minimum contributio
 n is £7 but please give a bit more if you can afford it.\n\nThe club prem
 ises and CAMRA award-winning bar will be open on the day from 5.30 pm.\n\n
 Entry is free to OLC/CAMRA members and £1 for non-members. The bar is CAR
 D payments only\n\n&nbsp\;
CATEGORIES:Music
END:VEVENT
BEGIN:VTIMEZONE
TZID:Europe/London
X-LIC-LOCATION:Europe/London
BEGIN:STANDARD
DTSTART:20251026T010000
TZOFFSETFROM:+0100
TZOFFSETTO:+0000
TZNAME:GMT
END:STANDARD
END:VTIMEZONE
END:VCALENDAR