BEGIN:VCALENDAR
VERSION:2.0
PRODID:-//wp-events-plugin.com//7.2.3.1//EN
TZID:Europe/London
X-WR-TIMEZONE:Europe/London
BEGIN:VEVENT
UID:1292@orpingtonliberalclub.co.uk
DTSTART;TZID=Europe/London:20260109T193000
DTEND;TZID=Europe/London:20260109T223000
DTSTAMP:20251226T163454Z
URL:https://orpingtonliberalclub.co.uk/events/the-badger-band-jacci-norris
 -paul-adams/
SUMMARY:The Badger Band + Jacci Norris & Paul Adams
DESCRIPTION:\n\nWe've got a great double bill lined up for you at OLC.\n\nT
 he finale will be a 2nd half set from THE BADGER BAND who are lively\, upb
 eat\, entertaining\, and inclusive featuring guitarist\, singer &amp\; son
 gwriter Dave 'Badger' Stead.\n\nWe'll start with 45 min of lively floorspo
 ts followed by a set from popular local Jazz singer JACCI NORRIS &amp\; si
 nger/guitarist PAUL ADAMS playing mellow tunes from yesteryear with close 
 vocal harmonies &amp\; Jacci’s arsenal of recorders.\n\nFor floorspots w
 e welcome singers\, musicians &amp\; poets Please come early if you'd like
  to do a turn.\n\nPayment for the guests will be by hat collection in CASH
 . The suggested minimum contribution is £7 but please give a bit more if 
 you can afford it.\n\nThe club premises and CAMRA award-winning bar (CARD 
 payment only) will be open on the day from 5.30 pm. Entry is free to OLC/C
 AMRA members and £1 for non-members payable at the bar.\n\n&nbsp\;
CATEGORIES:Music
END:VEVENT
BEGIN:VTIMEZONE
TZID:Europe/London
X-LIC-LOCATION:Europe/London
BEGIN:STANDARD
DTSTART:20251026T010000
TZOFFSETFROM:+0100
TZOFFSETTO:+0000
TZNAME:GMT
END:STANDARD
END:VTIMEZONE
END:VCALENDAR