BEGIN:VCALENDAR
VERSION:2.0
PRODID:-//wp-events-plugin.com//7.2.3.1//EN
TZID:Europe/London
X-WR-TIMEZONE:Europe/London
BEGIN:VEVENT
UID:1208@orpingtonliberalclub.co.uk
DTSTART;TZID=Europe/London:20251212T193000
DTEND;TZID=Europe/London:20251212T223000
DTSTAMP:20251109T062701Z
URL:https://orpingtonliberalclub.co.uk/events/the-ashen-keys-3/
SUMMARY:The Ashen Keys
DESCRIPTION:\nA welcome return of The Ashen Keys to OLC. The all female tri
 o brings together a plethora of influences and styles in what can loosely 
 be called folk\, but in reality is an astounding multi instrumental\, mult
 i voiced celebration of heartfelt story telling.\n\nWith Hannah Ellerby (v
 ocals\, violin\, oboe and ukulele)\, Rachel Lowrie (vocals\, guitar\, ukul
 ele and clarinet) and Vicky Price (vocals\, French horn\, accordion).\n\nI
 n support will be a short mid-evening set from legendary Kent based singer
 -songwriter and guitarist Ian Petrie.\n\nFrom 7.30 pm until 8.10 pm\, we'r
 e open to lively floor spots. We welcome singers\, musicians and poets.\nP
 lease come early if you'd like to do a turn. The guests are due to play th
 e 1st of their 2 sets at 8.15\n\nPayment for the guests will be by hat col
 lection in CASH. The suggested minimum contribution is £8 but please give
  a bit more if you can afford it.\n\nThe club premises and CAMRA award-win
 ning bar will be open on the day from 5.30pm. The bar is Card payments onl
 y.\n\nEntry is free to OLC &amp\; CAMRA members and £1 for non-members\, 
 payable at the bar.
CATEGORIES:Music
END:VEVENT
BEGIN:VTIMEZONE
TZID:Europe/London
X-LIC-LOCATION:Europe/London
BEGIN:STANDARD
DTSTART:20251026T010000
TZOFFSETFROM:+0100
TZOFFSETTO:+0000
TZNAME:GMT
END:STANDARD
END:VTIMEZONE
END:VCALENDAR