BEGIN:VCALENDAR
VERSION:2.0
PRODID:-//wp-events-plugin.com//7.2.3.1//EN
TZID:Europe/London
X-WR-TIMEZONE:Europe/London
BEGIN:VEVENT
UID:1125@orpingtonliberalclub.co.uk
DTSTART;TZID=Europe/London:20250319T194500
DTEND;TZID=Europe/London:20250319T210000
DTSTAMP:20250202T121653Z
URL:https://orpingtonliberalclub.co.uk/events/talk-the-curiosities-of-orpi
 ngton-the-crays/
SUMMARY:Talk "The Curiosities of Orpington & the Crays"
DESCRIPTION:An illustrated talk by local historians Jerry Dowlen &amp\; Ric
 hard Bowdery with poet Maureen Hillier.\n\nA study of Orpington &amp\; the
  Cray Valley - it's people\, social history &amp\; built environment\, rev
 eals a lot which is interesting &amp\; unusual.\n\nThe trio's entertaining
  talk was a sell-out at the 2024 Orpington Literary Festival\, drawing on 
 material from Jerry &amp\; Richard's popular booklets 'Curiosities of Orpi
 ngton' &amp\; 'Curiosities of the Crays' produced by local publisher Cray 
 150.\n\nFree Entry to OLC Members &amp\; others £1 payable at the bar.\n\
 nHat Collection in CASH for the guests - £6 min suggested.\n\nThe bar is 
 open from 6.15pm and is CARD Payments Only.
CATEGORIES:Music
END:VEVENT
BEGIN:VTIMEZONE
TZID:Europe/London
X-LIC-LOCATION:Europe/London
BEGIN:STANDARD
DTSTART:20241027T010000
TZOFFSETFROM:+0100
TZOFFSETTO:+0000
TZNAME:GMT
END:STANDARD
END:VTIMEZONE
END:VCALENDAR