BEGIN:VCALENDAR
VERSION:2.0
PRODID:-//wp-events-plugin.com//7.2.3.1//EN
TZID:Europe/London
X-WR-TIMEZONE:Europe/London
BEGIN:VEVENT
UID:1282@orpingtonliberalclub.co.uk
DTSTART;TZID=Europe/London:20260121T194500
DTEND;TZID=Europe/London:20260121T210000
DTSTAMP:20260120T063315Z
URL:https://orpingtonliberalclub.co.uk/events/talk-on-scadbury-moated-mano
 r/
SUMMARY:Talk on Scadbury Moated Manor
DESCRIPTION:\n\nScadbury Manor is a medieval moated manor house site\, with
 in Scadbury Park Local Nature Reserve\, where Orpington and District Archa
 eological Society (ODAS) are engaged in a long term excavation\, historica
 l research &amp\; conservation project.\n\nFollowing the success of last y
 ears fascinating talk\, on The Archaeology of the Orpington Area\, Orpingt
 on Liberal Club is delighted Michael Meekums &amp\; Janet Clayton have acc
 epted our invitation to return to share more about the work and findings o
 f the active local volunteer archaeology group.\n\nIt's free entry to the 
 premises for OLC/CAMRA members and £1 to non-members who need to pay at t
 he bar and sign in as guests.\n\nAdditionally\, there's a CASH hat collect
 ion for the speakers with a suggested minimum of £5.\n\nThe CAMRA award-w
 inning bar will be open from 6.15 p.m. It accepts card payments only.\n\n&
 nbsp\;
CATEGORIES:Talk
END:VEVENT
BEGIN:VTIMEZONE
TZID:Europe/London
X-LIC-LOCATION:Europe/London
BEGIN:STANDARD
DTSTART:20251026T010000
TZOFFSETFROM:+0100
TZOFFSETTO:+0000
TZNAME:GMT
END:STANDARD
END:VTIMEZONE
END:VCALENDAR