BEGIN:VCALENDAR
VERSION:2.0
PRODID:-//wp-events-plugin.com//7.2.3.1//EN
TZID:Europe/London
X-WR-TIMEZONE:Europe/London
BEGIN:VEVENT
UID:1277@orpingtonliberalclub.co.uk
DTSTART;TZID=Europe/London:20260103T140000
DTEND;TZID=Europe/London:20260103T170000
DTSTAMP:20251205T091057Z
URL:https://orpingtonliberalclub.co.uk/events/songwriters-workshop-with-an
 dy-smythe/
SUMMARY:Songwriters Workshop with Andy Smythe
DESCRIPTION:\nFollowing on from the success of Andy's initial Sat afternoon
  songwriting workshop in the OLC Hall in November\, by popular demand\, we
 've invited him back for a follow up session on Jan 3rd.\n\nIf you didn't 
 manage to get to the 1st one don't worry. These sessions have been designe
 d with newcomers &amp\; beginners in mind as well seasoned songsmiths. So 
 there will be something for everyone.\n\nAndy will show you what he's lear
 ned from writing 200 songs\, recording 8 albums\, having Mike Scott of The
  Waterboys just turn up at a gig after hearing his song 'Whiskey Priest' a
 nd much much more... We will analyse song structure and harmony and collab
 orate attempting to write hit songs.\n\nBring yourself together with pen &
 amp\; paper. If you play one\, a musical instrument and maybe a music stan
 d.\n\nIf you've got a couple of songs you're working on and would like to 
 share and discuss with the group\, that would be great but it's not compul
 sory.\n\nFree entry to OLC and CAMRA members\, with a £1 charge to others
  payable at the bar.\n\nIn addition there will be a voluntary CASH hat col
 lection for Andy with a suggested minimum  contribution of £5\n\nThe OLC
  premises and CAMRA award-winning bar will be open from 12.30pm. The bar i
 s CARD payment only.\n\n&nbsp\;
CATEGORIES:Music
END:VEVENT
BEGIN:VTIMEZONE
TZID:Europe/London
X-LIC-LOCATION:Europe/London
BEGIN:STANDARD
DTSTART:20251026T010000
TZOFFSETFROM:+0100
TZOFFSETTO:+0000
TZNAME:GMT
END:STANDARD
END:VTIMEZONE
END:VCALENDAR