BEGIN:VCALENDAR
VERSION:2.0
PRODID:-//wp-events-plugin.com//7.2.3.1//EN
TZID:Europe/London
X-WR-TIMEZONE:Europe/London
BEGIN:VEVENT
UID:1316@orpingtonliberalclub.co.uk
DTSTART;TZID=Europe/London:20260418T140000
DTEND;TZID=Europe/London:20260418T170000
DTSTAMP:20260307T163624Z
URL:https://orpingtonliberalclub.co.uk/events/songwriters-workshop-with-an
 dy-smythe-3/
SUMMARY:Songwriters Workshop with Andy Smythe
DESCRIPTION:Following the success of Andy's previous Sat afternoon songwrit
 ing workshops\, by popular demand\, Andy is back to lead another session.\
 n\nIf you didn't manage to get to his previous workshops don't worry. Thes
 e sessions have been designed with newcomers &amp\; beginners in mind as w
 ell seasoned songsmiths. So they'll be something for everyone.\n\nAndy wil
 l show you what he's learned from writing 200 songs\, recording 8 albums\,
  having Mike Scott of The Waterboys just turn up at a gig after hearing hi
 s song 'Whiskey Priest' and much much more.... We will analyse song struct
 ure and harmony and collaborate attempting to write hit songs.\n\nBring yo
 urself\, pen'n'paper &amp\; perhaps a music stand... Plus If you play one\
 , a muscial instrument or maybe just your singing voice.\n\nIf you've got 
 a song you're working on &amp\; would like to share with the group\, that 
 would be great but it's not compulsory.\n\nFree entry to OLC and CAMRA mem
 bers\, with a £1 charge to others payable at the bar.\n\nIn addition ther
 e will be a voluntary CASH hat collection for Andy with a suggested min co
 ntribution of £5.\n\nThe OLC premises &amp\; CAMRA award-winning bar (Car
 d payments only) will be open from 12.30pm.\n\n&nbsp\;
CATEGORIES:Music
END:VEVENT
BEGIN:VTIMEZONE
TZID:Europe/London
X-LIC-LOCATION:Europe/London
BEGIN:DAYLIGHT
DTSTART:20260329T020000
TZOFFSETFROM:+0000
TZOFFSETTO:+0100
TZNAME:BST
END:DAYLIGHT
END:VTIMEZONE
END:VCALENDAR