BEGIN:VCALENDAR
VERSION:2.0
PRODID:-//wp-events-plugin.com//7.2.3.1//EN
TZID:Europe/London
X-WR-TIMEZONE:Europe/London
BEGIN:VEVENT
UID:1297@orpingtonliberalclub.co.uk
DTSTART;TZID=Europe/London:20260207T140000
DTEND;TZID=Europe/London:20260207T170000
DTSTAMP:20260111T072527Z
URL:https://orpingtonliberalclub.co.uk/events/songwriters-workshop-with-an
 dy-smythe-2/
SUMMARY:Songwriters Workshop with Andy Smythe
DESCRIPTION:\nFollowing on from the success of Andy's initial Sat afternoon
  songwriting workshop in the OLC Hall in November\, by popular demand\, we
 've invited him back for a follow up session.\n\nIf you didn't manage to g
 et to the previous worshops don't worrry. These sessions have been designe
 d with newcomers &amp\; beginners in mind as well seasoned songsmiths. So 
 they'll be something for everyone.\n\nAndy will show you what he's learned
  from writing 200 songs\, recording 8 albums\, having Mike Scott of The Wa
 terboys just turn up at a gig after hearing his song 'Whiskey Priest' and 
 much much more.... We will analyse song structure and harmony and collabor
 ate attempting to write hit songs.\n\nBring yourself\, pen'n'paper &amp\; 
 perhaps a music stand.. If you play one\, a musical instrument or maybe ju
 st your singing voice.\n\nIf you've got a couple of songs you're working o
 n &amp\; would like to share with the group\, that would be great but it's
  not compulsory.\n\nFree entry to OLC and CAMRA members\, with a £1 charg
 e to others payable at the bar.\n\nIn addition there will be a voluntary C
 ASH hat collection for Andy with a suggested minimum  contribution of £5
 \n\nThe OLC premises and CAMRA award-winning bar will be open from 12.30pm
 . The bar is card payment only.\n\n&nbsp\;
CATEGORIES:Music
END:VEVENT
BEGIN:VTIMEZONE
TZID:Europe/London
X-LIC-LOCATION:Europe/London
BEGIN:STANDARD
DTSTART:20251026T010000
TZOFFSETFROM:+0100
TZOFFSETTO:+0000
TZNAME:GMT
END:STANDARD
END:VTIMEZONE
END:VCALENDAR