BEGIN:VCALENDAR
VERSION:2.0
PRODID:-//wp-events-plugin.com//7.2.3.1//EN
TZID:Europe/London
X-WR-TIMEZONE:Europe/London
BEGIN:VEVENT
UID:1134@orpingtonliberalclub.co.uk
DTSTART;TZID=Europe/London:20250401T193000
DTEND;TZID=Europe/London:20250401T223000
DTSTAMP:20250301T075030Z
URL:https://orpingtonliberalclub.co.uk/events/songwriters-circle-2/
SUMMARY:Songwriters Circle
DESCRIPTION:Ado Matheson\, Frank McConnell &amp\; From the Workshop will be
  on stage together in what promises to be another fascinating &amp\; fun e
 vening. They are all accomplished singer-songwriters (with not a fool amon
 gst them) &amp\; will take turns performing their songs\, discussing their
  inspirations\, &amp\; engaging in friendly banter.\n\nADO MATHESON was ra
 ised on the Isle of Lewis in the outer Hebrides\, where he retains close l
 inks. In recent years he has been living in the Orpington Area. He's a hig
 h-quality performer\, a fantastic singer-songwriter\, with a delightful si
 nging voice &amp\; a fine interpreter of others' songs. He is at home sing
 ing in both English &amp\; his native Gaelic.\n\nFROM THE WORSHOP are loca
 l couple JONNIE TEMPLE &amp\; HELEN ROSEMARY 'a man &amp\; his suitcase\, 
 a woman &amp\; her voice'. Expect stunning harmonies &amp\; finely crafted
  compositions blending folk traditions with soulful &amp\; punkish influen
 ces..\n\nFRANK McCONNELL is a seasoned songwriter &amp\; tunesmith who was
  raised in the North East of England. He's an outstanding guitarist\,with 
 a discography that includes both solo albums &amp\; collaborations. Frank 
 is well known for his involvement in broadcasting &amp\; has featured in b
 oth children's &amp\; religious programmes.\n\nFrom 7.30 pm until 8.15 pm\
 , we're open to floorspots before the guests come on to play the first of 
 their two sets. Singers\, musicians\, and poets are all welcome. Self-penn
 ed material will be welcome but optional.\n\nA cash hat collection goes to
  the guests in its entirety. The suggested minimum contribution is £6\, b
 ut please give a little more if you can afford it.\n\nThe club premises an
 d CAMRA award-winning bar will be open on the day from 5.30 pm. It's CARD 
 payments only: free entry to OLC members\, £1 to non-members.
CATEGORIES:Music
END:VEVENT
BEGIN:VTIMEZONE
TZID:Europe/London
X-LIC-LOCATION:Europe/London
BEGIN:DAYLIGHT
DTSTART:20250330T020000
TZOFFSETFROM:+0000
TZOFFSETTO:+0100
TZNAME:BST
END:DAYLIGHT
END:VTIMEZONE
END:VCALENDAR