BEGIN:VCALENDAR
VERSION:2.0
PRODID:-//wp-events-plugin.com//7.2.3.1//EN
TZID:Europe/London
X-WR-TIMEZONE:Europe/London
BEGIN:VEVENT
UID:1206@orpingtonliberalclub.co.uk
DTSTART;TZID=Europe/London:20251206T134500
DTEND;TZID=Europe/London:20251206T171500
DTSTAMP:20251204T053350Z
URL:https://orpingtonliberalclub.co.uk/events/skinner-twitch-2/
SUMMARY:Skinner & T'witch
DESCRIPTION:\nOur final Saturday afternoon special of the year will culmina
 te with a one-hour set from SKINNER &amp\; T'WITCH.\n\nThe Leeds based cou
 ple had us singing &amp\; dancing in the aisles on their previous OLC visi
 t &amp\; are guaranteed to bring a smile to your face. Drawing on music-ha
 ll and vaudeville traditions\, Skinner &amp\; T’witch combine original c
 omedy &amp\; satire with folk\, flamenco and theatre-style songs.\n\nThe a
 fternoon special begins with floorspots &amp\; will include some food &amp
 \; refreshments + a succession of pre-booked spots from singers\, musician
 s &amp\; poets.\n\nIt's free entry for OLC and CAMRA members\, with a £1 
 charge to others payable at the bar.\n\nThere's a CASH hat collection to p
 ay the guests and help cover costs. The minimum suggested contribution is 
 £6 per head\, but please give more if you can afford it.\n\nThe OLC premi
 ses &amp\; CAMRA award-winning bar will be open from 12.30pm. It's a CARD 
 payment only.
CATEGORIES:Music
END:VEVENT
BEGIN:VTIMEZONE
TZID:Europe/London
X-LIC-LOCATION:Europe/London
BEGIN:STANDARD
DTSTART:20251026T010000
TZOFFSETFROM:+0100
TZOFFSETTO:+0000
TZNAME:GMT
END:STANDARD
END:VTIMEZONE
END:VCALENDAR