BEGIN:VCALENDAR
VERSION:2.0
PRODID:-//wp-events-plugin.com//7.2.3.1//EN
TZID:Europe/London
X-WR-TIMEZONE:Europe/London
BEGIN:VEVENT
UID:1074@orpingtonliberalclub.co.uk
DTSTART;TZID=Europe/London:20250221T200000
DTEND;TZID=Europe/London:20250221T230000
DTSTAMP:20250128T054510Z
URL:https://orpingtonliberalclub.co.uk/events/shanakee/
SUMMARY:Shanakee
DESCRIPTION:\nJoin Rog\, Pat\, Brian\, and Paul as they return to the OLC s
 tage from 8pm on 21st Feb\, 2025.\n\nShanakee are an upbeat and energetic 
 folk rock band that lean into their namesake\, the word meaning 'travellin
 g storyteller' in Gaelic.\n\nMembers of the band come from a diverse range
  of musical backgrounds\, spanning punk/post-punk\, indie\, and folk rock.
  They bring a mix of original and traditional music with their own slant\,
  citing the mystic marshlands of Dungeness as an influence for this unique
  blend.\n\nThe band's members are: Paul Johnson (vocals\, acoustic guitar\
 , electric guitar)\, Patrick Heron (mandolin\, mondol\, accordion\, 12 str
 ing\, flute and vocals)\, Roger Isit (bass and backing vocals) and Brian W
 hitby (drums).\n\nA cash hat collection goes to the guests in its entirety
 . The suggested minimum contribution is £6\, but please give a little mor
 e if you can afford it.\n\nThe club premises and CAMRA award-winning bar w
 ill be open on the day from 5.30 pm. It's CARD payments only: free entry t
 o OLC members\, £1 to non-members.
CATEGORIES:Music
END:VEVENT
BEGIN:VTIMEZONE
TZID:Europe/London
X-LIC-LOCATION:Europe/London
BEGIN:STANDARD
DTSTART:20241027T010000
TZOFFSETFROM:+0100
TZOFFSETTO:+0000
TZNAME:GMT
END:STANDARD
END:VTIMEZONE
END:VCALENDAR