BEGIN:VCALENDAR
VERSION:2.0
PRODID:-//wp-events-plugin.com//7.2.3.1//EN
TZID:Europe/London
X-WR-TIMEZONE:Europe/London
BEGIN:VEVENT
UID:1204@orpingtonliberalclub.co.uk
DTSTART;TZID=Europe/London:20251108T200000
DTEND;TZID=Europe/London:20251108T223000
DTSTAMP:20251020T094303Z
URL:https://orpingtonliberalclub.co.uk/events/saints-sinners/
SUMMARY:Saints & Sinners
DESCRIPTION:Saints &amp\; Sinners is a collaborative project between The Sp
 ikedrivers Trio and Fran McGillivray &amp\; Mike Burke.\n\nWith five voice
 s\, a multitude of guitars\, percussion &amp\; even some homemade instrume
 nts they create a world of soul\, stories and soundscapes in gospel &amp\;
  blues traditions.\n\nThe music will start at 8pm with hall doors opening 
 at around 7.45pm.\n\nTickets - £15 SOLD OUT on advanced bookings.\n\nThe 
 club premises &amp\; CAMRA award-winning bar (CARD Payments Only) open on 
 the night from 7.30pm. The club is free entry to OLC members &amp\; £1 to
  others\, payable at the bar.
CATEGORIES:Music
END:VEVENT
BEGIN:VTIMEZONE
TZID:Europe/London
X-LIC-LOCATION:Europe/London
BEGIN:STANDARD
DTSTART:20251026T010000
TZOFFSETFROM:+0100
TZOFFSETTO:+0000
TZNAME:GMT
END:STANDARD
END:VTIMEZONE
END:VCALENDAR