BEGIN:VCALENDAR
VERSION:2.0
PRODID:-//wp-events-plugin.com//7.2.3.1//EN
TZID:Europe/London
X-WR-TIMEZONE:Europe/London
BEGIN:VEVENT
UID:1159@orpingtonliberalclub.co.uk
DTSTART;TZID=Europe/London:20250614T193000
DTEND;TZID=Europe/London:20250614T223000
DTSTAMP:20250525T053005Z
URL:https://orpingtonliberalclub.co.uk/events/russ-kearton-trio/
SUMMARY:Russ Kearton Trio
DESCRIPTION:\nWelcome back to OLC for the Russ Kearton Trio\, with their Ho
 nest\, soulful\, in-the-pocket blues\, soul\, swing\, and funk originals .
 ..Come dig it!!\n\nA mid-evening short support solo set from Ted Taylor\, 
 an awesome young\, up-and-coming blues fella who writes his own tunes and 
 plays both acoustic and electric guitars.\n\nFloorspot time to start. Plea
 se come early on the night if you'd like to do a turn.\n\nRuss's Trio will
  be on for their 1st set at around 8.10 pm.\n\nA hat collection in CASH go
 es to the guests in its entirety. The suggested minimum contribution is £
 6\, but please give a little more if you can afford it.\n\nThe club premis
 es and CAMRA award-winning bar (CARD payment only) will be open from 7 p.m
 . on the day. Entry is free to OLC members\, £1 to others\, payable at th
 e bar.
CATEGORIES:Music
END:VEVENT
BEGIN:VTIMEZONE
TZID:Europe/London
X-LIC-LOCATION:Europe/London
BEGIN:DAYLIGHT
DTSTART:20250330T020000
TZOFFSETFROM:+0000
TZOFFSETTO:+0100
TZNAME:BST
END:DAYLIGHT
END:VTIMEZONE
END:VCALENDAR