BEGIN:VCALENDAR
VERSION:2.0
PRODID:-//wp-events-plugin.com//7.2.3.1//EN
TZID:Europe/London
X-WR-TIMEZONE:Europe/London
BEGIN:VEVENT
UID:1295@orpingtonliberalclub.co.uk
DTSTART;TZID=Europe/London:20260131T193000
DTEND;TZID=Europe/London:20260131T223000
DTSTAMP:20251230T100422Z
URL:https://orpingtonliberalclub.co.uk/events/russ-kearton-trio-ted-taylor
 -band/
SUMMARY:Russ Kearton Trio & Ted Taylor Band
DESCRIPTION:\nA double bill with a full set each from two exceedingly good 
 band making return visits to the club.\n\nRuss Kearton Trio\, with their H
 onest\, soulful\, in-the-pocket blues\, soul\, swing\, and funk originals.
 .. Come dig it!!\n\nTed Taylor\, an awesome young\, up-and-coming blues fe
 lla who writes his own tunes and plays both acoustic and electric guitars.
 \n\nFloorspot time to start. Please come early on the night if you'd like 
 to do a turn. The 1st guest set will follow starting at around 8.15.\n\nA 
 hat collection in CASH goes to the guests in its entirety. The suggested m
 inimum contribution is £6\, but please give a little more if you can affo
 rd it.\n\nThe club premises and CAMRA award-winning bar (card payments onl
 y) will be open from 7p.m. on the day. Entry is free to OLC/CAMRA members\
 , £1 to others\, payable at the bar.
CATEGORIES:Music
END:VEVENT
BEGIN:VTIMEZONE
TZID:Europe/London
X-LIC-LOCATION:Europe/London
BEGIN:STANDARD
DTSTART:20251026T010000
TZOFFSETFROM:+0100
TZOFFSETTO:+0000
TZNAME:GMT
END:STANDARD
END:VTIMEZONE
END:VCALENDAR