BEGIN:VCALENDAR
VERSION:2.0
PRODID:-//wp-events-plugin.com//7.2.3.1//EN
TZID:Europe/London
X-WR-TIMEZONE:Europe/London
BEGIN:VEVENT
UID:805@orpingtonliberalclub.co.uk
DTSTART;TZID=Europe/London:20240503T194500
DTEND;TZID=Europe/London:20240503T223000
DTSTAMP:20240412T175348Z
URL:https://orpingtonliberalclub.co.uk/events/rock-no-chips/
SUMMARY:Rock No Chips
DESCRIPTION:An evening of rock &amp\; roll covers: Dire Straits\, ZZ Top\, 
 Robert Palmer and many more from the band\, Paul\, Roger\, Toby &amp\; Pip
 .\n\nJoining them this evening\, Lee &amp\; Anita from Rebellious Jukebox 
 &amp\; Dave Williams (MLC Rock).\n\nFree entry to OLC members\, non member
 s £1.00: raffle: A jar will be passed around for a cash contribution to t
 he band.\n\nThe CAMRA award-winning bar will be open\, card payments only.
CATEGORIES:Music,Rock
END:VEVENT
BEGIN:VTIMEZONE
TZID:Europe/London
X-LIC-LOCATION:Europe/London
BEGIN:DAYLIGHT
DTSTART:20240331T020000
TZOFFSETFROM:+0000
TZOFFSETTO:+0100
TZNAME:BST
END:DAYLIGHT
END:VTIMEZONE
END:VCALENDAR