BEGIN:VCALENDAR
VERSION:2.0
PRODID:-//wp-events-plugin.com//7.2.3.1//EN
TZID:Europe/London
X-WR-TIMEZONE:Europe/London
BEGIN:VEVENT
UID:1193@orpingtonliberalclub.co.uk
DTSTART;TZID=Europe/London:20251017T193000
DTEND;TZID=Europe/London:20251017T223000
DTSTAMP:20250925T051045Z
URL:https://orpingtonliberalclub.co.uk/events/rock-no-chips-4/
SUMMARY:Rock-No Chips
DESCRIPTION:\nAn evening of classic rock n roll covers from Stereophonics t
 o Led Zeppelin and many more. Raffle: snacks: During the evening\, a jar w
 ill be passed around for a cash contribution for the band.\n\nFree entry f
 or club/CAMRA members\, others £1 payable at the bar.\n\nThe CAMRA award-
 winning bar will be open from 6.15 pm. CARD payments only.
CATEGORIES:Music
END:VEVENT
BEGIN:VTIMEZONE
TZID:Europe/London
X-LIC-LOCATION:Europe/London
BEGIN:DAYLIGHT
DTSTART:20250330T020000
TZOFFSETFROM:+0000
TZOFFSETTO:+0100
TZNAME:BST
END:DAYLIGHT
END:VTIMEZONE
END:VCALENDAR