BEGIN:VCALENDAR
VERSION:2.0
PRODID:-//wp-events-plugin.com//7.2.3.1//EN
TZID:Europe/London
X-WR-TIMEZONE:Europe/London
BEGIN:VEVENT
UID:1129@orpingtonliberalclub.co.uk
DTSTART;TZID=Europe/London:20250308T194500
DTEND;TZID=Europe/London:20250308T223000
DTSTAMP:20250228T061929Z
URL:https://orpingtonliberalclub.co.uk/events/rock-no-chips-3/
SUMMARY:Rock-No Chips
DESCRIPTION:\n\nCome and join Paul\, Roger\, Toby and Pip for an evening of
  rock n roll. Playing covers from ZZ Top\, Stereophonics\, Cream\, The Tra
 velling Wilbury's and many more.\n\nDuring the evening\, a jar will be pas
 sed around for the band\, there will also be a raffle and nibbles.\n\nOn t
 his occasion\, we welcome pre booked floor slots for musicians who would l
 ike to be accompanied by the band\, whether it be a keyboard player\, drum
 mer or guitarist.\nContact Denise Hicks on the Orpington Liberal Club Elec
 tric Jam Fb page.\n\nIt's free entry for OLC members &amp\; £1 for non-me
 mbers.\n\nThe club's CAMRA award-winning bar will be open from 19:30 (card
  payments only)\, with real ales &amp\; craft ciders a house speciality.\n
 \n\n&nbsp\;
CATEGORIES:Music,Rock
END:VEVENT
BEGIN:VTIMEZONE
TZID:Europe/London
X-LIC-LOCATION:Europe/London
BEGIN:STANDARD
DTSTART:20241027T010000
TZOFFSETFROM:+0100
TZOFFSETTO:+0000
TZNAME:GMT
END:STANDARD
END:VTIMEZONE
END:VCALENDAR