BEGIN:VCALENDAR
VERSION:2.0
PRODID:-//wp-events-plugin.com//7.2.3.1//EN
TZID:Europe/London
X-WR-TIMEZONE:Europe/London
BEGIN:VEVENT
UID:809@orpingtonliberalclub.co.uk
DTSTART;TZID=Europe/London:20240525T193000
DTEND;TZID=Europe/London:20240525T223000
DTSTAMP:20240419T145612Z
URL:https://orpingtonliberalclub.co.uk/events/robin-bibi/
SUMMARY:Robin Bibi & the Harpmeister
DESCRIPTION:ROBIN BIBI &amp\; DAVID “HARPMEISTER” RAPHAEL are a formida
 ble blues duo. Not to be missed.\n\nRobin Bibi is one of the finest blues 
 guitarists in London – artists he has backed include Robert Plant\, Jimm
 y Page\, Ben E King and Helen Shapiro.\n\nDave Raphael has become an insti
 tution on the U.K blues scene. His nickname "The Harpmeister" is well dese
 rved\, as no-one blows a blues harp quite like Dave!\n\nTickets £10 from 
 Steve Wehrle. Ring/Text 07801089375 to buy/reserve your place.\n\nThe club
  premises &amp\; CAMRA award winning bar open on the night from 7pm. The H
 all doors open at 7.45 pm. Seats are unreserved.
CATEGORIES:Blues,Music
END:VEVENT
BEGIN:VTIMEZONE
TZID:Europe/London
X-LIC-LOCATION:Europe/London
BEGIN:DAYLIGHT
DTSTART:20240331T020000
TZOFFSETFROM:+0000
TZOFFSETTO:+0100
TZNAME:BST
END:DAYLIGHT
END:VTIMEZONE
END:VCALENDAR