BEGIN:VCALENDAR
VERSION:2.0
PRODID:-//wp-events-plugin.com//7.2.3.1//EN
TZID:Europe/London
X-WR-TIMEZONE:Europe/London
BEGIN:VEVENT
UID:1186@orpingtonliberalclub.co.uk
DTSTART;TZID=Europe/London:20250906T193000
DTEND;TZID=Europe/London:20250906T223000
DTSTAMP:20250820T054711Z
URL:https://orpingtonliberalclub.co.uk/events/ridgerunner/
SUMMARY:Ridgerunner
DESCRIPTION:Orpington Liberal Club welcomes Ridgerunner a high-energy Ameri
 cana &amp\; Blues duo comprising of Adam Stocker (ex Bad Pennies) and TJ C
 adman (ex Gentleman Tim and the Contenders).\n\nExpect a foot-stomping ble
 nd of bluegrass\, country &amp\; folk. with rich harmonies\, driving rhyth
 ms\, and stories that echo the spirit of the open road.\n\nIf you think Jo
 hnny Cash\, Ry Cooder\, Bob Dylan\, Neil Young\, John Hiatt\, Tom Waits\, 
 Muddy Waters\, Keb Mo\, Taj Mahal\, Lightning Hopkins\, The Band\, Rolling
  Stones and a few more in the same vein\, you won't be far out.\n\nWe'll k
 ick off with open mic/floorspots from musicians\, singers &amp\; poets\, f
 ollowed by the 1st of 2 sets from Ridgerunner starting around 8.20 pm.\n\n
 Payment is by hat collection in CASH for the guests\, with a £6 minimum c
 ontribution suggested. Please consider giving a bit more if you can afford
  it.\n\nThe premises &amp\; OLC's CAMRA award-winning club bar (CARD payme
 nts only) will be open from 7 pm. It's Free entry to OLC and CAMRA members
  with a £1 charge to others payable at the bar.
CATEGORIES:Music
END:VEVENT
BEGIN:VTIMEZONE
TZID:Europe/London
X-LIC-LOCATION:Europe/London
BEGIN:DAYLIGHT
DTSTART:20250330T020000
TZOFFSETFROM:+0000
TZOFFSETTO:+0100
TZNAME:BST
END:DAYLIGHT
END:VTIMEZONE
END:VCALENDAR