BEGIN:VCALENDAR
VERSION:2.0
PRODID:-//wp-events-plugin.com//7.2.3.1//EN
TZID:Europe/London
X-WR-TIMEZONE:Europe/London
BEGIN:VEVENT
UID:1160@orpingtonliberalclub.co.uk
DTSTART;TZID=Europe/London:20250620T193000
DTEND;TZID=Europe/London:20250620T223000
DTSTAMP:20250527T083800Z
URL:https://orpingtonliberalclub.co.uk/events/richard-rozze-2/
SUMMARY:Richard Rozze Group
DESCRIPTION:\n\nIn what promises to be a cracking evening of class music\, 
 Orpington Liberal Club welcomes Richard Rozze and his group.\n\nRichard (g
 uitars and vocals) will showcase songs from his critically acclaimed album
 \, Lion\, with Steve Bridgland on bass and Wez Johnson on drums.\n\nHis el
 ectric guitar playing embraces blues\, rock\, and jazz\, with intelligent\
 , uplifting songwriting at its core. He has been compared to guitarists as
  wide-ranging as Peter Green\, Eric Johnson\, and Wes Montgomery\, and his
  voice echoes Nick Drake and Jackson Browne.\n\nRichard's songwriting is '
 'full of the longing and pathos of the blues\; songs that mirror the human
  condition with music that fuses rock aggression\, jazz sensibilities\, be
 autiful sounds and sheer musical invention."\n\nWe've heard Richard's exce
 llent acoustic guitar playing with folk Trio Open Water\, so it's time to 
 sample another side of his considerable talents as an electric guitarist.\
 n\nFloorspots to kick off the proceedings with the guests coming on to pla
 y their 1st set at around 8.15 pm. Contributions from singers\, musicians 
 &amp\; poets are all welcome.\nPlease arrive early if you'd like to do a t
 urn.\n\nHat collection in CASH for the guest with a suggested minimum of 
 £8. Please give more if you can afford it.\n\nThe CAMRA award-winning bar
  (CARD payments only) and club premises are open on the day from 5.30 pm.\
 nIt's free entry for OLC members &amp\; £1 for others payable at the bar\
 n\n&nbsp\;
CATEGORIES:Blues,Music
END:VEVENT
BEGIN:VTIMEZONE
TZID:Europe/London
X-LIC-LOCATION:Europe/London
BEGIN:DAYLIGHT
DTSTART:20250330T020000
TZOFFSETFROM:+0000
TZOFFSETTO:+0100
TZNAME:BST
END:DAYLIGHT
END:VTIMEZONE
END:VCALENDAR