BEGIN:VCALENDAR
VERSION:2.0
PRODID:-//wp-events-plugin.com//7.2.3.1//EN
TZID:Europe/London
X-WR-TIMEZONE:Europe/London
BEGIN:VEVENT
UID:1158@orpingtonliberalclub.co.uk
DTSTART;TZID=Europe/London:20250523T193000
DTEND;TZID=Europe/London:20250523T223000
DTSTAMP:20250519T221925Z
URL:https://orpingtonliberalclub.co.uk/events/richard-anderson/
SUMMARY:Richard Anderson
DESCRIPTION:\nOrpington Liberal Club welcomes Richard Anderson\, a highly a
 cclaimed Scottish singer-songwriter now based in London with a growing rep
 utation for his distinctive vocals\, exceptional finger-picking acoustic g
 uitar style\, captivating stage presence\, literate original songs\, and w
 ell-chosen covers.\n\n\n\nIn addition to two sets from Richard (the 1st st
 arting at around 8.15 pm)\, there'll be a short mid-evening showcase spot 
 from popular local singer-songwriter Angela McCarron\, plus floor spots to
  kick off the proceedings.\nContributions from singers\, musicians\, and p
 oets are all welcome. Please arrive early if you'd like to do a turn.\n\n\
 n\nHat collection in CASH for the guest with a suggested minimum of £6. P
 lease give more if you can afford it.\n\n\n\nFree entry for OLC members\, 
 others pay £1 at the bar.\nCAMRA award winning bar open from 5.30pm on th
 e night - Card Payments only.
CATEGORIES:Music
END:VEVENT
BEGIN:VTIMEZONE
TZID:Europe/London
X-LIC-LOCATION:Europe/London
BEGIN:DAYLIGHT
DTSTART:20250330T020000
TZOFFSETFROM:+0000
TZOFFSETTO:+0100
TZNAME:BST
END:DAYLIGHT
END:VTIMEZONE
END:VCALENDAR