BEGIN:VCALENDAR
VERSION:2.0
PRODID:-//wp-events-plugin.com//7.2.3.1//EN
TZID:Europe/London
X-WR-TIMEZONE:Europe/London
BEGIN:VEVENT
UID:1341@orpingtonliberalclub.co.uk
DTSTART;TZID=Europe/London:20260530T193000
DTEND;TZID=Europe/London:20260530T223000
DTSTAMP:20260422T085145Z
URL:https://orpingtonliberalclub.co.uk/events/pixelstorm-apoplexy/
SUMMARY:Pixelstorm + aPopLexy
DESCRIPTION:OLC is delighted to welcome PIXELSTORM an exciting South of Lon
 don based electropop act. Expect Self-penned songs delivered in the retros
 ound of early 80s electronica\, synthpop hooks &amp\; big pop melodies. Th
 e lyric stories are timeless\, as if lifted from Depeche Mode or Eurythmic
 s\, but often with a modern-day dystopian twist. Featuring live keytar flo
 urishes and vocals laced with Bowie and Midge Ure.\n\nIn support our frien
 ds APopLexy will play a mid evening showcase with their unique sound built
  around the songwriting talents of 'Lexy' Marianne-Rose Tovey (Vocals &amp
 \; keyboards) &amp\; David Fowler's musicianship (Guitars &amp\; Sax). The
 ir repertoire draws on wide ranging influences\, including folk\, synth-po
 p\, goth &amp\; the avant-garde.\n\nWe'll be open to floorspots during the
  30 min\, prior to Pixelstorm's 1st set which is due start shortly after 8
 . If you'd like to get up &amp\; treat us to a song or a tune or two\, ple
 ase arrive early on the night. They'll be a couple of vocal mics &amp\; in
 strument leads available for plug &amp\; play.\n\nA hat collection in CASH
  goes in its entirety to the guests. The suggested minimum contribution is
  £7\, but please give a little more if you can afford it.\n\nThe club pre
 mises &amp\; CAMRA award-winning bar will be open on the day from 7pm. - c
 ard payments only.\n\nFree entry to OLC/CAMRA members &amp\; £1 to non-me
 mbers payable at the bar.\n\n&nbsp\;
CATEGORIES:Music
END:VEVENT
BEGIN:VTIMEZONE
TZID:Europe/London
X-LIC-LOCATION:Europe/London
BEGIN:DAYLIGHT
DTSTART:20260329T020000
TZOFFSETFROM:+0000
TZOFFSETTO:+0100
TZNAME:BST
END:DAYLIGHT
END:VTIMEZONE
END:VCALENDAR