BEGIN:VCALENDAR
VERSION:2.0
PRODID:-//wp-events-plugin.com//7.2.3.1//EN
TZID:Europe/London
X-WR-TIMEZONE:Europe/London
BEGIN:VEVENT
UID:1132@orpingtonliberalclub.co.uk
DTSTART;TZID=Europe/London:20250321T193000
DTEND;TZID=Europe/London:20250321T223000
DTSTAMP:20250225T104701Z
URL:https://orpingtonliberalclub.co.uk/events/paul-millns/
SUMMARY:Paul Millns
DESCRIPTION:\n\nPaul Millns supported by his son Andreas. This is sure to b
 e a sellout so get in quick.\n\nAs usual\, tickets are £10. Contact Steve
  Wehrle on 07801 089375 if you want to come.\n\n£1 for non-members for gu
 est membership.\n\nThe club's CAMRA award-winning bar will be open from 17
 :30 (card payments only)\, with real ales &amp\; craft ciders a house spec
 iality.\n\n\n&nbsp\;
CATEGORIES:Music
END:VEVENT
BEGIN:VTIMEZONE
TZID:Europe/London
X-LIC-LOCATION:Europe/London
BEGIN:STANDARD
DTSTART:20241027T010000
TZOFFSETFROM:+0100
TZOFFSETTO:+0000
TZNAME:GMT
END:STANDARD
END:VTIMEZONE
END:VCALENDAR