BEGIN:VCALENDAR
VERSION:2.0
PRODID:-//wp-events-plugin.com//7.2.3.1//EN
TZID:Europe/London
X-WR-TIMEZONE:Europe/London
BEGIN:VEVENT
UID:1209@orpingtonliberalclub.co.uk
DTSTART;TZID=Europe/London:20251219T193000
DTEND;TZID=Europe/London:20251219T223000
DTSTAMP:20251116T061342Z
URL:https://orpingtonliberalclub.co.uk/events/paul-brown-and-angie-udi/
SUMMARY:Paul Brown and Angie Udi
DESCRIPTION:\nThe last Friday before Christmas will be a Cracker at OLC sta
 rring the Amazing Mr Brown &amp\; teenage singing sensation Angie Udi.\n\n
 Paul is a superb musician and a consummate entertainer who will treat us t
 o a selection from his vast repertoire of hits from down the decades. Thes
 e include popular classical guitar pieces\, ballads from the era when the 
 Crooner was king\, glam Rock Anthems\, and lots more. All this is topped u
 p with a sprinkling of your all-time Christmas favourites.\n\nAngie Udi ha
 s sung guest spots at several of Paul's recent concerts recently and has b
 rought the house down every time. Her powerful vocals have an incredible r
 ange of emotion and her delivery always has complete commitment.\n\nWe sta
 rt the evening with floorspots for the 1st 45 minutes before bringing Mr B
 rown &amp\; Miss Udi for the rest of the evening.\n\nSingers\, musicians\,
  poets\, and spoken word artists are all welcome. It's an opportunity to d
 ig up and dust off your good ole Yuletide party pieces\, not forgetting th
 ose war-weary\, dog-eared declarations of Humbug.\n\nDecorations will be u
 p\, and the CAMRA award-winning club bar (CARD Payments only) will be open
  from 17.30\, selling foaming beakers of good cheer along with bags of nut
 s and roast turkey-flavoured crisps.\n\nIt's free entry to OLC club member
 s &amp\; £1 to others. There will be a hat collection for the guests in C
 ASH. The suggested minimum contribution is £6 but please give more if you
  can afford it.\n\n&nbsp\;
CATEGORIES:Music
END:VEVENT
BEGIN:VTIMEZONE
TZID:Europe/London
X-LIC-LOCATION:Europe/London
BEGIN:STANDARD
DTSTART:20251026T010000
TZOFFSETFROM:+0100
TZOFFSETTO:+0000
TZNAME:GMT
END:STANDARD
END:VTIMEZONE
END:VCALENDAR