BEGIN:VCALENDAR
VERSION:2.0
PRODID:-//wp-events-plugin.com//7.2.3.1//EN
TZID:Europe/London
X-WR-TIMEZONE:Europe/London
BEGIN:VEVENT
UID:1188@orpingtonliberalclub.co.uk
DTSTART;TZID=Europe/London:20250927T110000
DTEND;TZID=Europe/London:20250927T120000
DTSTAMP:20250822T154326Z
URL:https://orpingtonliberalclub.co.uk/events/orpington-liberal-club-agm-2
 /
SUMMARY:Orpington Liberal Club AGM
DESCRIPTION:This is an opportunity for Orpington Liberal Club Members to ge
 t together\, hear about club successes and plans for the future\, elect me
 mbers to the management committee\, give feedback\, and have their say abo
 ut how the club is run.\n\n&nbsp\;
CATEGORIES:Club
END:VEVENT
BEGIN:VTIMEZONE
TZID:Europe/London
X-LIC-LOCATION:Europe/London
BEGIN:DAYLIGHT
DTSTART:20250330T020000
TZOFFSETFROM:+0000
TZOFFSETTO:+0100
TZNAME:BST
END:DAYLIGHT
END:VTIMEZONE
END:VCALENDAR