BEGIN:VCALENDAR
VERSION:2.0
PRODID:-//wp-events-plugin.com//7.2.3.1//EN
TZID:Europe/London
X-WR-TIMEZONE:Europe/London
BEGIN:VEVENT
UID:1172@orpingtonliberalclub.co.uk
DTSTART;TZID=Europe/London:20250825T140000
DTEND;TZID=Europe/London:20250825T173000
DTSTAMP:20250714T074449Z
URL:https://orpingtonliberalclub.co.uk/events/orpington-acoustic-summer-si
 ngalong-2/
SUMMARY:Orpington Acoustic Summer Singalong
DESCRIPTION:\n\nAt a loose end on Bank Holiday Monday?\nCome along to Orpin
 gton Liberal Club for our Summer Singalong!!!\n\nOpen mic all the way\, 3 
 - yes 3! - songs a piece. Limit of 10 minutes.\nAs Robin would say “sing
 y along” songs are encouraged.\n\nWe will be out the garden if weather p
 ermits and a PA will be provided.\n\nFree entry to OLC for members\, £1 e
 ntry for non-members\, payable at the bar.\n\nSo pop in and have a sing or
  stay the whole afternoon. Either way\, John\, Jenny\, Robin and Pauline l
 ook forward to seeing you\n\nCAMRA Award Winning Bar - CARD payments only.
CATEGORIES:Music
END:VEVENT
BEGIN:VTIMEZONE
TZID:Europe/London
X-LIC-LOCATION:Europe/London
BEGIN:DAYLIGHT
DTSTART:20250330T020000
TZOFFSETFROM:+0000
TZOFFSETTO:+0100
TZNAME:BST
END:DAYLIGHT
END:VTIMEZONE
END:VCALENDAR