BEGIN:VCALENDAR
VERSION:2.0
PRODID:-//wp-events-plugin.com//7.2.3.1//EN
TZID:Europe/London
X-WR-TIMEZONE:Europe/London
BEGIN:VEVENT
UID:321@orpingtonliberalclub.co.uk
DTSTART;TZID=Europe/London:20240423T192000
DTEND;TZID=Europe/London:20240423T220000
DTSTAMP:20240326T071902Z
URL:https://orpingtonliberalclub.co.uk/events/orpington-acoustic-2024-04-2
 3/
SUMMARY:Linde Nijland & Bert Ridderbos
DESCRIPTION:OLC welcomes back our very special friends from the Netherlands
 \, Linde Nijland and Bert Ridderdos\, for their first concert in an 8-gig 
 UK spring tour.\nLinde has been described as the "best folk singer of the 
 Netherlands". For many years\, she has been performing and recording with 
 multi-instrumentalist Bert Ridderbos on guitars\, cittern\, accordion\, ba
 njo\, and dobro. Together\, they tour all over Europe.\nThey will be perfo
 rming 2x45-minute sets of their own fantastic compositions together with b
 reathtaking renditions of Sandy Denny's songs\, which showcase Linde's inc
 redible voice.\nThe concert begins at 7.20pm with pre-booked support acts 
 &amp\; we'll aim to open the hall doors 10 minutes beforehand.\nIt's £9 C
 ASH on the door. Seats are unreserved. However\, you can secure places in 
 advance by emailing event host John Edwards at Vinylitus@outlook.com.\nThe
  club premises with its CAMRA award-winning bar (CARD payment only) will b
 e open from 6.15 pm..it's free entry to OLC members with a £1 charge to o
 thers payable at the bar.
CATEGORIES:Music
END:VEVENT
BEGIN:VTIMEZONE
TZID:Europe/London
X-LIC-LOCATION:Europe/London
BEGIN:DAYLIGHT
DTSTART:20240331T020000
TZOFFSETFROM:+0000
TZOFFSETTO:+0100
TZNAME:BST
END:DAYLIGHT
END:VTIMEZONE
END:VCALENDAR