BEGIN:VCALENDAR
VERSION:2.0
PRODID:-//wp-events-plugin.com//7.2.3.1//EN
TZID:Europe/London
X-WR-TIMEZONE:Europe/London
BEGIN:VEVENT
UID:1276@orpingtonliberalclub.co.uk
DTSTART;TZID=Europe/London:20251217T193000
DTEND;TZID=Europe/London:20251217T220000
DTSTAMP:20251204T054023Z
URL:https://orpingtonliberalclub.co.uk/events/now-thats-what-we-call-chris
 tmas/
SUMMARY:The Rudolphians Showband
DESCRIPTION:All your favourite Christmas Songs &amp\; Readings brought to y
 ou by The Rudolphians Showband &amp\; a host of friends.\n\nA festive ente
 rtainment devised &amp\; presented by John Pead &amp\; Richard Ahsam (from
  Huskies Nights). Now\, That's What We Call Christmas!\n\nThe show is due 
 to start at 7.30pm\nIf you want to be sure of a seat contact John &amp\; R
 ichard 07876685565 for tickets.\n\nBut if there's room we'll be letting pe
 ople in on the night\, just turn up when you can make it.\n\nPayment will 
 be by hat collection in CASH with a £5 suggested minimum but please consi
 der giving more if you can afford it\,\n\nThe CAMRA award-winning Club Bar
  will be open from 6.15pm\, Card payments only.\n\n&nbsp\;
CATEGORIES:Music
END:VEVENT
BEGIN:VTIMEZONE
TZID:Europe/London
X-LIC-LOCATION:Europe/London
BEGIN:STANDARD
DTSTART:20251026T010000
TZOFFSETFROM:+0100
TZOFFSETTO:+0000
TZNAME:GMT
END:STANDARD
END:VTIMEZONE
END:VCALENDAR