BEGIN:VCALENDAR
VERSION:2.0
PRODID:-//wp-events-plugin.com//7.2.3.1//EN
TZID:Europe/London
X-WR-TIMEZONE:Europe/London
BEGIN:VEVENT
UID:1213@orpingtonliberalclub.co.uk
DTSTART;TZID=Europe/London:20251231T193000
DTEND;TZID=Europe/London:20260101T003000
DTSTAMP:20251125T090524Z
URL:https://orpingtonliberalclub.co.uk/events/new-years-eve-party-private-
 event-for-olc-members-only/
SUMMARY:New Years Eve Party - Private Event for OLC Members only
DESCRIPTION:A Private Event for OLC Members &amp\; their guests ONLY.\n\nTh
 e bar and club premises will be open from 6 pm if you would like to pop in
  for an early evening drink.\n\n‘Pot Luck Buffet’ please bring some fo
 od with you to share.\n\nA Classic British Vintage Film Comedy screened in
  the Hall from 8pm.\n\nMidnight Fireworks in the Garden with a complimenta
 ry glass of bubbly.\n\nFree Entry to OLC Members &amp\; £1 for their gues
 ts who must be signed in.\n\nThe bar is Card Payments Only.\n\nNo admissio
 ns after 10.00 pm\n\n&nbsp\;
CATEGORIES:Club
END:VEVENT
BEGIN:VTIMEZONE
TZID:Europe/London
X-LIC-LOCATION:Europe/London
BEGIN:STANDARD
DTSTART:20251026T010000
TZOFFSETFROM:+0100
TZOFFSETTO:+0000
TZNAME:GMT
END:STANDARD
END:VTIMEZONE
END:VCALENDAR