BEGIN:VCALENDAR
VERSION:2.0
PRODID:-//wp-events-plugin.com//7.2.3.1//EN
TZID:Europe/London
X-WR-TIMEZONE:Europe/London
BEGIN:VEVENT
UID:1281@orpingtonliberalclub.co.uk
DTSTART;TZID=Europe/London:20260207T200000
DTEND;TZID=Europe/London:20260207T223000
DTSTAMP:20260125T134101Z
URL:https://orpingtonliberalclub.co.uk/events/natural-women/
SUMMARY:Natural Women
DESCRIPTION:\nA Celebration of female singers and Songwriters.\n\nFor the f
 irst time at the club\, we welcome CJ\, Joanna (Devanna\\The Dirty Perks)\
 , Lisa and Michelle as Natural Women. They will be performing covers from 
 artists such as Joni Mitchell and Tracy Chapman.\n\nWe will have a support
  act to start off the evening. There will be a raffle and nibbles.\n\nPlea
 se note that during the evening\, a jar will be passed around for a cash c
 ontribution to the band.\n\nThe premises and OLC's CAMRA award-winning bar
  (CARD payments only) will be open from 7pm.\n\nClub/CAMRA members enjoy f
 ree entry to the premises\, and others pay a £1 charge at the bar.\n\n&nb
 sp\;
CATEGORIES:Music
END:VEVENT
BEGIN:VTIMEZONE
TZID:Europe/London
X-LIC-LOCATION:Europe/London
BEGIN:STANDARD
DTSTART:20251026T010000
TZOFFSETFROM:+0100
TZOFFSETTO:+0000
TZNAME:GMT
END:STANDARD
END:VTIMEZONE
END:VCALENDAR