BEGIN:VCALENDAR
VERSION:2.0
PRODID:-//wp-events-plugin.com//7.2.3.1//EN
TZID:Europe/London
X-WR-TIMEZONE:Europe/London
BEGIN:VEVENT
UID:1189@orpingtonliberalclub.co.uk
DTSTART;TZID=Europe/London:20250927T193000
DTEND;TZID=Europe/London:20250927T223000
DTSTAMP:20250911T063657Z
URL:https://orpingtonliberalclub.co.uk/events/music-hall-theme-night-doves
 -vagaries/
SUMMARY:Dove's Vagaries
DESCRIPTION:Welcome return to OLC for DOVE'S VAGARIES: SARAH PAVEY &amp\; C
 HRIS EVANS who sing songs &amp\; make music on an extraordinary collection
  of instruments. Their wide-ranging traditional repertoire includes folk &
 amp\; lots of Old Time Music Hall Songs.\n\nIt was hoped to make this an O
 ld Time Music Hall Night\, but due to a lack of available performers\, it'
 s been decided to adopt our standard format with floorspots to start at 7.
 30 pm &amp\; two full sets from Dove's Vagaries. The 1st starting around 8
 .15 pm.\n\nFor floorspots\, we welcome singers\, musicians &amp\; poets wi
 th a variety of different genres\, including Music Hall\, all welcome.\n\n
 There's a CASH hat collection for Doves Vagaries. The suggested minimum co
 ntribution is £6\, but please give a little bit more if you can afford it
 .\n\nThe club premises &amp\; CAMRA award-winning bar will be open on the 
 day from 7.00 pm. It's CARD payments only:\n\nFree entry to OLC/CAMRA memb
 ers\, £1 to non-members.
CATEGORIES:Music
END:VEVENT
BEGIN:VTIMEZONE
TZID:Europe/London
X-LIC-LOCATION:Europe/London
BEGIN:DAYLIGHT
DTSTART:20250330T020000
TZOFFSETFROM:+0000
TZOFFSETTO:+0100
TZNAME:BST
END:DAYLIGHT
END:VTIMEZONE
END:VCALENDAR