BEGIN:VCALENDAR
VERSION:2.0
PRODID:-//wp-events-plugin.com//7.2.3.1//EN
TZID:Europe/London
X-WR-TIMEZONE:Europe/London
BEGIN:VEVENT
UID:1078@orpingtonliberalclub.co.uk
DTSTART;TZID=Europe/London:20250210T190000
DTEND;TZID=Europe/London:20250210T220000
DTSTAMP:20250122T125852Z
URL:https://orpingtonliberalclub.co.uk/events/monday-dungeons-dragons-2025
 -02-10/
SUMMARY:Dungeons & Dragons game
DESCRIPTION:\n\nThe weekly gaming session for the Dungeons &amp\; Dragons g
 roup\, the 'Survivors of the Void'.\n\nSession takes place on the sofa and
  adjoining tables. Not currently accepting additional players\, although i
 nterested parties are welcome to listen/watch the ongoing (mis)adventures 
 of the group.
CATEGORIES:Gaming
END:VEVENT
BEGIN:VTIMEZONE
TZID:Europe/London
X-LIC-LOCATION:Europe/London
BEGIN:STANDARD
DTSTART:20241027T010000
TZOFFSETFROM:+0100
TZOFFSETTO:+0000
TZNAME:GMT
END:STANDARD
END:VTIMEZONE
END:VCALENDAR