BEGIN:VCALENDAR
VERSION:2.0
PRODID:-//wp-events-plugin.com//7.2.3.1//EN
TZID:Europe/London
X-WR-TIMEZONE:Europe/London
BEGIN:VEVENT
UID:1169@orpingtonliberalclub.co.uk
DTSTART;TZID=Europe/London:20250716T190000
DTEND;TZID=Europe/London:20250716T210000
DTSTAMP:20250714T064956Z
URL:https://orpingtonliberalclub.co.uk/events/mike-lesleys-wednesday-eveni
 ng-garden-get-together/
SUMMARY:Mike & Lesley's Wednesday evening garden get-together
DESCRIPTION:\n\nMike &amp\; Lesley invite you to join them for a Summer's E
 vening of Social Chit-Chat\, Music &amp\; Song.\n\nJust bring yourself &am
 p\; possibly snackeroonies to share.\nIf the weather is fine we'll meet in
  the garden.  If the weather's poor\, there will be a sing-around under t
 he patio.\n\nSmall PA available on request.\n\nFree Entry to OLC Members. 
 £1 to Non Members payable at the bar.\n\nWe're sorry\, but no noise is al
 lowed in the garden after 9 because of the club's licensing conditions.\n\
 nCAMRA Award Winning Bar - CARD payments only.\n\nPremises open from 6.15 
 on the night.
CATEGORIES:Music
END:VEVENT
BEGIN:VTIMEZONE
TZID:Europe/London
X-LIC-LOCATION:Europe/London
BEGIN:DAYLIGHT
DTSTART:20250330T020000
TZOFFSETFROM:+0000
TZOFFSETTO:+0100
TZNAME:BST
END:DAYLIGHT
END:VTIMEZONE
END:VCALENDAR