BEGIN:VCALENDAR
VERSION:2.0
PRODID:-//wp-events-plugin.com//7.2.3.1//EN
TZID:Europe/London
X-WR-TIMEZONE:Europe/London
BEGIN:VEVENT
UID:871@orpingtonliberalclub.co.uk
DTSTART;TZID=Europe/London:20240908T133000
DTEND;TZID=Europe/London:20240908T170000
DTSTAMP:20240826T052828Z
URL:https://orpingtonliberalclub.co.uk/events/mike-lesley-dyer-garden-get-
 together/
SUMMARY:Mike & Lesley Dyer Garden Get-Together
DESCRIPTION:Mike &amp\; Lesley Dyer cordially invite you to meet up with th
 em in the OLC Garden for Live Music\, Chit-Chat &amp\; Eats.\n\nPoets\, sp
 oken word artists\, musicians\, and singers are welcome. + non-performers.
 \n\nA small PA will be provided for plug-in &amp\; play + some shade if it
 's a hot day.\n\nIf the weather is poor\, the event will go ahead with a s
 ingaround &amp\; playalong on the patio.\n\nAs a special treat\, Harvey &a
 mp\; Fernando will serve traditional Spanish and vegetarian Paellas at £3
  CASH for a bowl from 2 p.m. until supplies run out.\n\nThe CAMRA award-wi
 nning club bar (CARD Payments only) will be open from 12.30 pm - CARD Paym
 ents only.\n\nIt's free entry to OLC &amp\; CAMRA members with a £1 charg
 e to others who need to sign in.
CATEGORIES:Music
END:VEVENT
BEGIN:VTIMEZONE
TZID:Europe/London
X-LIC-LOCATION:Europe/London
BEGIN:DAYLIGHT
DTSTART:20240331T020000
TZOFFSETFROM:+0000
TZOFFSETTO:+0100
TZNAME:BST
END:DAYLIGHT
END:VTIMEZONE
END:VCALENDAR