BEGIN:VCALENDAR
VERSION:2.0
PRODID:-//wp-events-plugin.com//7.2.3.1//EN
TZID:Europe/London
X-WR-TIMEZONE:Europe/London
BEGIN:VEVENT
UID:1133@orpingtonliberalclub.co.uk
DTSTART;TZID=Europe/London:20250315T200000
DTEND;TZID=Europe/London:20250315T223000
DTSTAMP:20250227T063628Z
URL:https://orpingtonliberalclub.co.uk/events/midnight-bluez-band/
SUMMARY:Midnight Bluez Band
DESCRIPTION:Midnight Bluez Band hail from North-West Kent or “the Thames 
 Delta” as we like to call it! We play a cocktail of Blues\, Soul &amp\; 
 Rock n’ Roll in a good ole’ boogie band style.\nThe band came together
  in 2015. We’ve picked up a great following in Kent pubs &amp\; festival
 s\, known for having a laugh with the audience and getting people up and d
 ancing.\n\nThe band members are Kev Turner on Slide Guitar &amp\; Vocals\,
  Mike Netherton on Harmonica\, Percussion &amp\; Backing Vocals\, Steve Hu
 ghes on Drums &amp\; Vocals\, Dave Wall on Bass &amp\; Vocals and Phil Scr
 ivener on Lead Guitar &amp\; Vocals.\n\nThe club premises will be open fro
 m 7pm on the night.\n\nIt’s FREE ENTRY to OLC Members &amp\; £1 to othe
 rs payable at the bar.\n\nThere will be a hat collection in CASH for the b
 and\, please give generously.\n\nThe CAMRA award-winning bar is open from 
 7pm and is CARD payments only.\n\n&nbsp\;\n\n&nbsp\;
CATEGORIES:Music
END:VEVENT
BEGIN:VTIMEZONE
TZID:Europe/London
X-LIC-LOCATION:Europe/London
BEGIN:STANDARD
DTSTART:20241027T010000
TZOFFSETFROM:+0100
TZOFFSETTO:+0000
TZNAME:GMT
END:STANDARD
END:VTIMEZONE
END:VCALENDAR