BEGIN:VCALENDAR
VERSION:2.0
PRODID:-//wp-events-plugin.com//7.2.3.1//EN
TZID:Europe/London
X-WR-TIMEZONE:Europe/London
BEGIN:VEVENT
UID:1302@orpingtonliberalclub.co.uk
DTSTART;TZID=Europe/London:20260203T193000
DTEND;TZID=Europe/London:20260203T223000
DTSTAMP:20260116T071706Z
URL:https://orpingtonliberalclub.co.uk/events/micheala-pugh-and-sunrise/
SUMMARY:Micheala Pugh and Sunrise
DESCRIPTION:\n\nThe 1st Tuesday Guest Night is a double bill with sets from
  Micheala Pugh and Sunrise.\n\nMichaela is a talented multi-instrumentalis
 t with a sumptuous voice who writes fantastic songs in the folk\, acoustic
  and pop music traditions\, with popular covers of classic songs thrown in
  for good measure.\n\nSunrise are an accomplished trio comprising of Brin 
 Parsons\, Sandy Roberts and Jenny Webb. playing a lively mix of carefully 
 arranged songs by their favourite artists. covering pop\, folk\, country a
 nd more.\n\nWe start the evening with floorspots\, followed by sets of aro
 und 45 min each from the guests &amp\; there will be a mid-evening break t
 aken at around 9.\n\nIf you'd like to perform\, please come early and flag
  up your intentions on arrival to avoid disappointment. We're open to poet
 s in addition to singers\, musicians\, and\, of course\, an audience.\n\nT
 here'll be PA available with mics and leads for plugin &amp\; play.\n\nA h
 at collection in CASH goes to the guests\, with a suggested minimum contri
 bution of £6 per head. Please give more if you can afford it\, they are f
 irst class act.\n\nThe premises and OLC's CAMRA award-winning bar (CARD pa
 yments only) will be open from 6.15pm.\n\nClub/CAMRA members enjoy free en
 try to the premises\, and others pay a £1 charge at the bar.\n\n&nbsp\;
CATEGORIES:Music
END:VEVENT
BEGIN:VTIMEZONE
TZID:Europe/London
X-LIC-LOCATION:Europe/London
BEGIN:STANDARD
DTSTART:20251026T010000
TZOFFSETFROM:+0100
TZOFFSETTO:+0000
TZNAME:GMT
END:STANDARD
END:VTIMEZONE
END:VCALENDAR