BEGIN:VCALENDAR
VERSION:2.0
PRODID:-//wp-events-plugin.com//7.2.3.1//EN
TZID:Europe/London
X-WR-TIMEZONE:Europe/London
BEGIN:VEVENT
UID:1135@orpingtonliberalclub.co.uk
DTSTART;TZID=Europe/London:20250405T193000
DTEND;TZID=Europe/London:20250405T223000
DTSTAMP:20250301T153300Z
URL:https://orpingtonliberalclub.co.uk/events/michaela-pugh-ken-box/
SUMMARY:Michaela Pugh & Ken Box
DESCRIPTION:Michaela Pugh is an exciting young talent. She is a multi-instr
 umentalist with a sumptuous voice who accompanies herself live on guitar a
 nd keyboards. Michaela writes fantastic songs in the folk\, acoustic\, &am
 p\; pop music traditions\, mixed in with her own arrangements of popular c
 overs.\n\nIn support will be partner &amp\; keyboard player Ken Box. Ken i
 s a seasoned musician from Portsmouth who brings with him experience of pl
 aying in bands across multiple genres &amp\; Jazz studies at Uni. His repe
 rtoire includes original pieces &amp\; classic covers showcasing his impro
 visational skills.\n\nThe club premises open on the day at 19.00hrs. We st
 art at 19.30 with floorspots for the 1st 45 minutes before bringing on Mic
 haela for the 1st of her two sets.. We're open to musicians\, singers\, po
 ets &amp\; spoken word. Please come early on the night &amp\; flag up your
  intentions if you'd like to do a turn.\n\nIt's free entry to OLC Members 
 with a £1 charge to others payable at the bar.\n\nThere'll be a hat colle
 ction for the guests in CASH with a suggested minimum contribution of £6.
  Please give a bit more if you can afford it.\n\nThe CAMRA award-winning b
 ar specialises in well-kept cask ales &amp\; farmhouse ciders &amp\; is CA
 RD payment only.
CATEGORIES:Music
END:VEVENT
BEGIN:VTIMEZONE
TZID:Europe/London
X-LIC-LOCATION:Europe/London
BEGIN:DAYLIGHT
DTSTART:20250330T020000
TZOFFSETFROM:+0000
TZOFFSETTO:+0100
TZNAME:BST
END:DAYLIGHT
END:VTIMEZONE
END:VCALENDAR