BEGIN:VCALENDAR
VERSION:2.0
PRODID:-//wp-events-plugin.com//7.2.3.1//EN
TZID:Europe/London
X-WR-TIMEZONE:Europe/London
BEGIN:VEVENT
UID:1304@orpingtonliberalclub.co.uk
DTSTART;TZID=Europe/London:20260218T194500
DTEND;TZID=Europe/London:20260218T213000
DTSTAMP:20260131T152956Z
URL:https://orpingtonliberalclub.co.uk/events/martin-woodford-hull-trawlin
 g/
SUMMARY:Martin Woodford - Hull Trawling
DESCRIPTION:Hull Trawling - When Men were Men &amp\; Women Changed the Worl
 d.\n\nThis one man show visits the heroic actions of women from the Hull F
 ishing Community and\, in the face of tragic losses of life at sea\, their
  role in changing the laws around fishing more in two weeks than governmen
 ts had in the previous 100 years. Using interviews\, words of the people i
 nvolved in the Hull trawling trade and songs\, Martin Woodford presents an
  eloquent and informative show.\n\nIt's free entry to the premises for OLC
  members &amp\; £1 to non-members payable at the bar.\n\nAdditionally\, t
 here's a CASH hat collection for the speakers with a suggested minimum of 
 £6 but please consider contributing a little bit more if you can afford i
 t\,\n\nThe premises and OLC's CAMRA award-winning bar (CARD payments only)
  will be open from 6.15pm.\n\n&nbsp\;
CATEGORIES:Music,Talk
END:VEVENT
BEGIN:VTIMEZONE
TZID:Europe/London
X-LIC-LOCATION:Europe/London
BEGIN:STANDARD
DTSTART:20251026T010000
TZOFFSETFROM:+0100
TZOFFSETTO:+0000
TZNAME:GMT
END:STANDARD
END:VTIMEZONE
END:VCALENDAR