BEGIN:VCALENDAR
VERSION:2.0
PRODID:-//wp-events-plugin.com//7.2.3.1//EN
TZID:Europe/London
X-WR-TIMEZONE:Europe/London
BEGIN:VEVENT
UID:1196@orpingtonliberalclub.co.uk
DTSTART;TZID=Europe/London:20251025T193000
DTEND;TZID=Europe/London:20251025T223000
DTSTAMP:20250923T042231Z
URL:https://orpingtonliberalclub.co.uk/events/martin-mcneill-2/
SUMMARY:Martin McNeill
DESCRIPTION:\nAs a special treat\, Martin McNeill\, the bluesman with a smi
 le\, is back at OLC\, having delighted &amp\; amazed us on his Orpy debut 
 last year when we celebrated Ross Jacques's 80th birthday.\n\nMartin is wi
 dely praised for his live performances\, recordings\, and online live stre
 ams. Radio presenter and music promoter Stephen Foster calls him “one of
  the country’s finest bottleneck blues guitarists” &amp\; we agree. Bu
 t don't just take our word for it come along &amp\; see for yourself.\n\nI
 n support\, we just had to have the old boy back too\, Ross Jacques now 81
 \, maturing like a fine wine &amp\; still blowing his bluesharps strong.\n
 \nThere will be a hat collection in cash for Martin\, who is travelling do
 wn from Leigh-on-Sea. The suggested minimum donation is £7\, but please g
 ive more if you can afford it.\n\nThe CAMRA award-winning club bar (CARD P
 AYMENTS ONLY) &amp\; club premises will be open from 7 pm.\n\nIt's free en
 try to OLC/CAMRA members &amp\; £1 to others payable at the bar.
CATEGORIES:Music
END:VEVENT
BEGIN:VTIMEZONE
TZID:Europe/London
X-LIC-LOCATION:Europe/London
BEGIN:DAYLIGHT
DTSTART:20250330T020000
TZOFFSETFROM:+0000
TZOFFSETTO:+0100
TZNAME:BST
END:DAYLIGHT
END:VTIMEZONE
END:VCALENDAR